BEGIN:VCALENDAR
VERSION:2.0
PRODID:-//Plone.org//NONSGML plone.app.event//EN
X-WR-TIMEZONE:Europe/Berlin
BEGIN:VEVENT
SUMMARY:30.08.2020 Lauftreff in Luckau "Buschlaufrunde" (abgelaufen)
DTSTART;TZID=Europe/Berlin;VALUE=DATE-TIME:20200830T100000
DTSTAMP;VALUE=DATE-TIME:20260424T191314Z
UID:8f49ca89e1b341498da7e36c2d52db2a@www.luckauer-laeuferbund.de
CONTACT:Mario Hädicke / Daniel Grote\, 0162- 2823066\, lauckauer-laeuferb
 und@web.de\, http://www.luckauer-laeuferbund.de
CREATED;VALUE=DATE-TIME:20200625T081056Z
DESCRIPTION:Fast schon legendär die Luckauer Buschlaufrunde!!!! Manche me
 inen\, der Lauf wäre so alt\, wie die Stadt selbst. Zu diesem Lauftreff h
 eißt es einfach hinkommen\, Leute treffen und loslaufen ohne Schnickschna
 ck und Kokolores.
LAST-MODIFIED;VALUE=DATE-TIME:20200831T112409Z
LOCATION:15926 Luckau\,  Schützenweg
URL:https://www.luckauer-laeuferbund.de/lauftreffs/30-08-2020-lauftreff-in
 -luckau-buschlaufrunde
END:VEVENT
BEGIN:VTIMEZONE
TZID:Europe/Berlin
X-LIC-LOCATION:Europe/Berlin
BEGIN:DAYLIGHT
DTSTART;VALUE=DATE-TIME:20200329T030000
TZNAME:CEST
TZOFFSETFROM:+0100
TZOFFSETTO:+0200
END:DAYLIGHT
END:VTIMEZONE
END:VCALENDAR
