BEGIN:VCALENDAR
VERSION:2.0
PRODID:-//Plone.org//NONSGML plone.app.event//EN
X-WR-TIMEZONE:Europe/Berlin
BEGIN:VEVENT
SUMMARY:24. Walddrehnaer Wald-Lauf
DTSTART;TZID=Europe/Berlin;VALUE=DATE-TIME:20161112T140000
DTSTAMP;VALUE=DATE-TIME:20260420T121042Z
UID:4e5b543f65d7488788cf0cb37562589e@www.luckauer-laeuferbund.de
CONTACT:Thomas Vanselow\, 03546 187565\, http://www.bornsdorf-triathlon.de
 /wettkampf/ausschreibung/laufen/24-walddrehnaer-waldlauf-2016
CREATED;VALUE=DATE-TIME:20160303T210945Z
DESCRIPTION:Auswertung des Spreewald-Cups 2016
LAST-MODIFIED;VALUE=DATE-TIME:20161011T063740Z
LOCATION:Turnhalle Walddrehna
URL:https://www.luckauer-laeuferbund.de/events/walddrehnaer-wald-lauf
END:VEVENT
BEGIN:VTIMEZONE
TZID:Europe/Berlin
X-LIC-LOCATION:Europe/Berlin
BEGIN:STANDARD
DTSTART;VALUE=DATE-TIME:20161030T020000
TZNAME:CET
TZOFFSETFROM:+0200
TZOFFSETTO:+0100
END:STANDARD
END:VTIMEZONE
END:VCALENDAR
