BEGIN:VCALENDAR
VERSION:2.0
PRODID:-//Plone.org//NONSGML plone.app.event//EN
X-WR-TIMEZONE:Europe/Berlin
BEGIN:VEVENT
SUMMARY:Teufelsstein-Lauf
DTSTART;TZID=Europe/Berlin;VALUE=DATE-TIME:20170326T110000
DTSTAMP;VALUE=DATE-TIME:20260420T122710Z
UID:db4d2e3f51e0429b92d0c20c59767ab8@www.luckauer-laeuferbund.de
CONTACT:https://www.bornsdorf-triathlon.de/wettkampf/ausschreibung/laufen/
 spreewald-cup-2017/26-03-2017-27-teufelsstein-lauf
CREATED;VALUE=DATE-TIME:20161224T134034Z
LAST-MODIFIED;VALUE=DATE-TIME:20170209T205220Z
LOCATION:Gehren
URL:https://www.luckauer-laeuferbund.de/events/teufelsstein-lauf
END:VEVENT
BEGIN:VTIMEZONE
TZID:Europe/Berlin
X-LIC-LOCATION:Europe/Berlin
BEGIN:DAYLIGHT
DTSTART;VALUE=DATE-TIME:20170326T030000
TZNAME:CEST
TZOFFSETFROM:+0100
TZOFFSETTO:+0200
END:DAYLIGHT
END:VTIMEZONE
END:VCALENDAR
