BEGIN:VCALENDAR
VERSION:2.0
PRODID:-//Plone.org//NONSGML plone.app.event//EN
X-WR-TIMEZONE:Europe/Berlin
BEGIN:VEVENT
SUMMARY:Einladung zum Siegerehrung des Spreewaldcup 2024
DTSTART;TZID=Europe/Berlin;VALUE=DATE-TIME:20241116T150000
DTEND;TZID=Europe/Berlin;VALUE=DATE-TIME:20241116T170000
DTSTAMP;VALUE=DATE-TIME:20260420T162030Z
UID:b0a9345b4f004616b6e94e4a44c07f35@www.luckauer-laeuferbund.de
CONTACT:Mario Hädicke\, luckauer-laeuferbund@web.de\, https://www.luckaue
 r-laeuferbund.de
CREATED;VALUE=DATE-TIME:20241024T043313Z
LAST-MODIFIED;VALUE=DATE-TIME:20241024T043326Z
LOCATION:Evangelische Grundschule Lübben\, Berliner Straße 21\, 15907 L
 übben / Spreewald
URL:https://www.luckauer-laeuferbund.de/events/einladung-zum-siegerehrung-
 des-spreewaldcup-2024
END:VEVENT
BEGIN:VTIMEZONE
TZID:Europe/Berlin
X-LIC-LOCATION:Europe/Berlin
BEGIN:STANDARD
DTSTART;VALUE=DATE-TIME:20241027T020000
TZNAME:CET
TZOFFSETFROM:+0200
TZOFFSETTO:+0100
END:STANDARD
END:VTIMEZONE
END:VCALENDAR
