BEGIN:VCALENDAR
VERSION:2.0
PRODID:-//Plone.org//NONSGML plone.app.event//EN
X-WR-TIMEZONE:Europe/Berlin
BEGIN:VEVENT
SUMMARY:20. Krausnicker-Berge-Pokallauf
DTSTART;TZID=Europe/Berlin;VALUE=DATE-TIME:20170226T100000
DTSTAMP;VALUE=DATE-TIME:20260420T123728Z
UID:47eb8d7fbad44e0f8ced5faea78556db@www.luckauer-laeuferbund.de
CONTACT:https://www.bornsdorf-triathlon.de/wettkampf/ausschreibung/laufen/
 spreewald-cup-2017/26-02-2017-20-krausnicker-berge-pokallauf
CREATED;VALUE=DATE-TIME:20170209T204958Z
LAST-MODIFIED;VALUE=DATE-TIME:20170209T205009Z
LOCATION:Krausnick
URL:https://www.luckauer-laeuferbund.de/events/20-krausnicker-berge-pokall
 auf
END:VEVENT
BEGIN:VTIMEZONE
TZID:Europe/Berlin
X-LIC-LOCATION:Europe/Berlin
BEGIN:STANDARD
DTSTART;VALUE=DATE-TIME:20161030T020000
TZNAME:CET
TZOFFSETFROM:+0200
TZOFFSETTO:+0100
END:STANDARD
END:VTIMEZONE
END:VCALENDAR
