BEGIN:VCALENDAR
VERSION:2.0
PRODID:-//Plone.org//NONSGML plone.app.event//EN
X-WR-TIMEZONE:Europe/Berlin
BEGIN:VEVENT
SUMMARY:Fordlauf
DTSTART;TZID=Europe/Berlin;VALUE=DATE-TIME:20170514T100000
DTSTAMP;VALUE=DATE-TIME:20260422T054614Z
UID:d3cd8321103e47579c525f30336c8262@www.luckauer-laeuferbund.de
CONTACT:https://www.bornsdorf-triathlon.de/wettkampf/ausschreibung/laufen/
 spreewald-cup-2017/14-05-2017-15-ford-lauf-dahme
CREATED;VALUE=DATE-TIME:20161224T134451Z
LAST-MODIFIED;VALUE=DATE-TIME:20170209T214940Z
LOCATION:Dahme
URL:http://www.luckauer-laeuferbund.de/events/fordlauf
END:VEVENT
BEGIN:VTIMEZONE
TZID:Europe/Berlin
X-LIC-LOCATION:Europe/Berlin
BEGIN:DAYLIGHT
DTSTART;VALUE=DATE-TIME:20170326T030000
TZNAME:CEST
TZOFFSETFROM:+0100
TZOFFSETTO:+0200
END:DAYLIGHT
END:VTIMEZONE
END:VCALENDAR
